BEGIN:VCALENDAR
VERSION:2.0
PRODID:-//Sparta Taekwondo - ECPv6.15.20//NONSGML v1.0//EN
CALSCALE:GREGORIAN
METHOD:PUBLISH
X-WR-CALNAME:Sparta Taekwondo
X-ORIGINAL-URL:https://www.spartatkd.com
X-WR-CALDESC:Events for Sparta Taekwondo
REFRESH-INTERVAL;VALUE=DURATION:PT1H
X-Robots-Tag:noindex
X-PUBLISHED-TTL:PT1H
BEGIN:VTIMEZONE
TZID:UTC
BEGIN:STANDARD
TZOFFSETFROM:+0000
TZOFFSETTO:+0000
TZNAME:UTC
DTSTART:20220101T000000
END:STANDARD
END:VTIMEZONE
BEGIN:VEVENT
DTSTART;TZID=UTC:20231007T090000
DTEND;TZID=UTC:20231007T120000
DTSTAMP:20260425T155039
CREATED:20230907T001105Z
LAST-MODIFIED:20230907T002453Z
UID:990-1696669200-1696680000@www.spartatkd.com
SUMMARY:Belt Testing - No Saturday Classes
DESCRIPTION:White to Yellow Advanced:  9:00-10:30\n\nOrange to Red Adv: 10:45 – 12:00\n\nPlease come in full uniform and for yellow and above\, please bring your sparring gear.\n\nPayment for testing\nBelt testing fees due October 2\, 2023 together with the applications.  After Oct. 2nd\, $20 late fees applies. If paying via Zelle\, please put in the memo area the student’s name.
URL:https://www.spartatkd.com/event/belt-testing-no-saturday-classes/
LOCATION:CA
ATTACH;FMTTYPE=image/jpeg:https://www.spartatkd.com/wp-content/uploads/2023/09/beltsv2.jpg
END:VEVENT
END:VCALENDAR