BEGIN:VCALENDAR
VERSION:2.0
PRODID:-//Sparta Taekwondo - ECPv6.15.20//NONSGML v1.0//EN
CALSCALE:GREGORIAN
METHOD:PUBLISH
X-WR-CALNAME:Sparta Taekwondo
X-ORIGINAL-URL:https://www.spartatkd.com
X-WR-CALDESC:Events for Sparta Taekwondo
REFRESH-INTERVAL;VALUE=DURATION:PT1H
X-Robots-Tag:noindex
X-PUBLISHED-TTL:PT1H
BEGIN:VTIMEZONE
TZID:UTC
BEGIN:STANDARD
TZOFFSETFROM:+0000
TZOFFSETTO:+0000
TZNAME:UTC
DTSTART:20230101T000000
END:STANDARD
END:VTIMEZONE
BEGIN:VEVENT
DTSTART;TZID=UTC:20240622T090000
DTEND;TZID=UTC:20240622T120000
DTSTAMP:20260425T024901
CREATED:20240305T003051Z
LAST-MODIFIED:20240305T003051Z
UID:1117-1719046800-1719057600@www.spartatkd.com
SUMMARY:Belt testing - No Classes
DESCRIPTION:White to Yellow Advanced:  9:00-10:30\nOrange to Red Adv: 10:45 – 12:00\nPlease come in full uniform and for yellow and above\, please bring your sparring gear.\n\nPayment for testing\nBelt testing fees and applications are due June 17\, 2024.  After June 17th\, $20 late fees applies. If paying via Zelle\, please put your child’s name in the memo section.
URL:https://www.spartatkd.com/event/belt-testing-no-classes-2/
LOCATION:CA
ATTACH;FMTTYPE=image/jpeg:https://www.spartatkd.com/wp-content/uploads/2023/09/beltsv2.jpg
END:VEVENT
END:VCALENDAR