BEGIN:VCALENDAR
VERSION:2.0
PRODID:-//Sparta Taekwondo - ECPv6.15.20//NONSGML v1.0//EN
CALSCALE:GREGORIAN
METHOD:PUBLISH
X-WR-CALNAME:Sparta Taekwondo
X-ORIGINAL-URL:https://www.spartatkd.com
X-WR-CALDESC:Events for Sparta Taekwondo
REFRESH-INTERVAL;VALUE=DURATION:PT1H
X-Robots-Tag:noindex
X-PUBLISHED-TTL:PT1H
BEGIN:VTIMEZONE
TZID:UTC
BEGIN:STANDARD
TZOFFSETFROM:+0000
TZOFFSETTO:+0000
TZNAME:UTC
DTSTART:20230101T000000
END:STANDARD
END:VTIMEZONE
BEGIN:VEVENT
DTSTART;TZID=UTC:20240821T150000
DTEND;TZID=UTC:20240822T200000
DTSTAMP:20260424T234727
CREATED:20240720T001210Z
LAST-MODIFIED:20240720T001210Z
UID:1187-1724252400-1724356800@www.spartatkd.com
SUMMARY:Sparta Intramural
DESCRIPTION:Tournament Schedule: \nWednesday\, August 21\, 2024 Poomsae: Children: 3:30 PM Adults: 7:00 PM \nThursday\, August 22\, 2024 Sparring Children: 3:30 PM Adults: 7:00 PM \nWhy Enroll? \nExciting Tournament Experience: Participate in Competition Poomsae and Olympic-style sparring. It’s an opportunity for you or your child to showcase their skills and compete for medals and a participation certificate. \nParental Insight: Gain a deeper understanding of taekwondo tournaments.  Why Participate in the Pre- Tournament Training Camp? Expert Guidance: For a small investment\, the Training Camp offers invaluable guidance from Coach Arven\, a world-ranked national athlete. Your child will learn techniques and drills essential for intramural readiness. \nElite Training Insight: Witness firsthand how world-class athletes train for tournaments. Gain a deeper understanding of preparation for taekwondo tournaments and how to support your child’s journey in martial arts. \nPreparation for Future Challenges: Use this opportunity to build confidence before larger tournaments such as the Silicon Valley Open and UC Davis Fall Open. \nRegistration Fees: Poomsae and Sparring: $60 Training Camp + 2 Events: $75 \nYour support also contributes to Coach Arven’s international competition expenses\, showing our commitment to his ongoing success and development. Don’t miss out on this enriching experience for your child! \nSecure their spot today by registering via link below: \nhttps://docs.google.com/forms/d/e/1FAIpQLSesooR3welzZcus9-c1Kqn64u9qR_0CIkDG6L6lkfSBJgdLgg/viewform?usp=sf_link
URL:https://www.spartatkd.com/event/sparta-intramural/
LOCATION:CA
ATTACH;FMTTYPE=image/jpeg:https://www.spartatkd.com/wp-content/uploads/2024/07/2024-Intramural.jpg
END:VEVENT
END:VCALENDAR