BEGIN:VCALENDAR
VERSION:2.0
PRODID:-//Sparta Taekwondo - ECPv6.15.20//NONSGML v1.0//EN
CALSCALE:GREGORIAN
METHOD:PUBLISH
X-WR-CALNAME:Sparta Taekwondo
X-ORIGINAL-URL:https://www.spartatkd.com
X-WR-CALDESC:Events for Sparta Taekwondo
REFRESH-INTERVAL;VALUE=DURATION:PT1H
X-Robots-Tag:noindex
X-PUBLISHED-TTL:PT1H
BEGIN:VTIMEZONE
TZID:UTC
BEGIN:STANDARD
TZOFFSETFROM:+0000
TZOFFSETTO:+0000
TZNAME:UTC
DTSTART:20230101T000000
END:STANDARD
END:VTIMEZONE
BEGIN:VEVENT
DTSTART;TZID=UTC:20241103T110000
DTEND;TZID=UTC:20241103T150000
DTSTAMP:20260424T193942
CREATED:20241022T001406Z
LAST-MODIFIED:20241022T001731Z
UID:1204-1730631600-1730646000@www.spartatkd.com
SUMMARY:Made in the Shade - Free and Family Friendly
DESCRIPTION:All-community Fall Festival\nYou loved it last year\,\nlet’s do it again\, even bigger!\nHeld on the campus of the\nShadelands Sports Mall\n2640 Shadelands Drive\, Walnut Creek\nLive Music\nFood Trucks • Craft Beer\nExhibitor Booths • Sports Activities\nIce Cream • Face Painting • Giveaways\nProject Pink Wheels Fire Engine • Joybound Pet Adoption Van\nShadelands Sportsmall \n\n\n\n\n2640 Shadelands Drive\, Walnut Creek CA \n\n\n\n\n\n\n\n\n\n\n\nFREE Parking at event. \n\n\n\n\nEnhance your event-day experience! Pre-register for activities by signing the waiver below and skip the line with fast lane access. \nwww.VisitShadelands.com    \nThen go to events and click on waiver. \n 
URL:https://www.spartatkd.com/event/made-in-the-shade/
LOCATION:Shadelands Sportsmall\, 2640 Shadelands Dr\, Walnut Creek\, CA\, 94598\, United States
ATTACH;FMTTYPE=image/png:https://www.spartatkd.com/wp-content/uploads/2024/10/MadeShadeLogo_2024.png
END:VEVENT
END:VCALENDAR