BEGIN:VCALENDAR
VERSION:2.0
PRODID:-//Sparta Taekwondo - ECPv6.15.20//NONSGML v1.0//EN
CALSCALE:GREGORIAN
METHOD:PUBLISH
X-ORIGINAL-URL:https://www.spartatkd.com
X-WR-CALDESC:Events for Sparta Taekwondo
REFRESH-INTERVAL;VALUE=DURATION:PT1H
X-Robots-Tag:noindex
X-PUBLISHED-TTL:PT1H
BEGIN:VTIMEZONE
TZID:UTC
BEGIN:STANDARD
TZOFFSETFROM:+0000
TZOFFSETTO:+0000
TZNAME:UTC
DTSTART:20240101T000000
END:STANDARD
END:VTIMEZONE
BEGIN:VEVENT
DTSTART;TZID=UTC:20250214T080000
DTEND;TZID=UTC:20250216T170000
DTSTAMP:20260424T153024
CREATED:20250114T034348Z
LAST-MODIFIED:20250114T034512Z
UID:1238-1739520000-1739725200@www.spartatkd.com
SUMMARY:2025 US Taekwondo Open
DESCRIPTION:https://www.usatkd.org/2025-u-s-open-taekwondo-championship
URL:https://www.spartatkd.com/event/2025-us-taekwondo-open/
LOCATION:Reno Sparks Convention Center
ATTACH;FMTTYPE=image/avif:https://www.spartatkd.com/wp-content/uploads/2025/01/2025-US-Open.avif
END:VEVENT
END:VCALENDAR