BEGIN:VCALENDAR
VERSION:2.0
PRODID:-//Sparta Taekwondo - ECPv6.15.20//NONSGML v1.0//EN
CALSCALE:GREGORIAN
METHOD:PUBLISH
X-ORIGINAL-URL:https://www.spartatkd.com
X-WR-CALDESC:Events for Sparta Taekwondo
REFRESH-INTERVAL;VALUE=DURATION:PT1H
X-Robots-Tag:noindex
X-PUBLISHED-TTL:PT1H
BEGIN:VTIMEZONE
TZID:UTC
BEGIN:STANDARD
TZOFFSETFROM:+0000
TZOFFSETTO:+0000
TZNAME:UTC
DTSTART:20240101T000000
END:STANDARD
END:VTIMEZONE
BEGIN:VEVENT
DTSTART;VALUE=DATE:20251126
DTEND;VALUE=DATE:20251201
DTSTAMP:20260424T014223
CREATED:20250830T020748Z
LAST-MODIFIED:20250830T020748Z
UID:1285-1764115200-1764547199@www.spartatkd.com
SUMMARY:Happy Thanksgiving - NO Classes
DESCRIPTION:Happy Thanksgiving to all. Enjoy this day with family and friends!
URL:https://www.spartatkd.com/event/happy-thanksgiving-no-classes/
LOCATION:CA
ATTACH;FMTTYPE=image/jpeg:https://www.spartatkd.com/wp-content/uploads/2025/08/OIP-1.jpg
END:VEVENT
END:VCALENDAR