BEGIN:VCALENDAR
VERSION:2.0
PRODID:-//Sparta Taekwondo - ECPv6.15.20//NONSGML v1.0//EN
CALSCALE:GREGORIAN
METHOD:PUBLISH
X-ORIGINAL-URL:https://www.spartatkd.com
X-WR-CALDESC:Events for Sparta Taekwondo
REFRESH-INTERVAL;VALUE=DURATION:PT1H
X-Robots-Tag:noindex
X-PUBLISHED-TTL:PT1H
BEGIN:VTIMEZONE
TZID:UTC
BEGIN:STANDARD
TZOFFSETFROM:+0000
TZOFFSETTO:+0000
TZNAME:UTC
DTSTART:20240101T000000
END:STANDARD
END:VTIMEZONE
BEGIN:VEVENT
DTSTART;TZID=UTC:20251215T153000
DTEND;TZID=UTC:20251218T200000
DTSTAMP:20260424T001448
CREATED:20251118T130512Z
LAST-MODIFIED:20251209T225837Z
UID:1332-1765812600-1766088000@www.spartatkd.com
SUMMARY:Bring a buddy week!
DESCRIPTION:Each participating guest needs a parent signed waiver.  Please print waiver below. \nfile:///C:/Users/jimvi/OneDrive/New%20Sparta/New%20Sparta/Sparta/Events/Event%20waiver.pdf \n 
URL:https://www.spartatkd.com/event/sparring-week/
LOCATION:CA
END:VEVENT
END:VCALENDAR