BEGIN:VCALENDAR
VERSION:2.0
PRODID:-//Sparta Taekwondo - ECPv6.15.20//NONSGML v1.0//EN
CALSCALE:GREGORIAN
METHOD:PUBLISH
X-ORIGINAL-URL:https://www.spartatkd.com
X-WR-CALDESC:Events for Sparta Taekwondo
REFRESH-INTERVAL;VALUE=DURATION:PT1H
X-Robots-Tag:noindex
X-PUBLISHED-TTL:PT1H
BEGIN:VTIMEZONE
TZID:UTC
BEGIN:STANDARD
TZOFFSETFROM:+0000
TZOFFSETTO:+0000
TZNAME:UTC
DTSTART:20250101T000000
END:STANDARD
END:VTIMEZONE
BEGIN:VEVENT
DTSTART;TZID=UTC:20260202T233000
DTEND;TZID=UTC:20260206T033000
DTSTAMP:20260423T210323
CREATED:20251220T034156Z
LAST-MODIFIED:20260120T223035Z
UID:1347-1770075000-1770348600@www.spartatkd.com
SUMMARY:Tip Testing
DESCRIPTION:Tip Testing during normal class time. Please come even if you’re not tip testing.
URL:https://www.spartatkd.com/event/tip-testing-15/
LOCATION:CA
ATTACH;FMTTYPE=image/jpeg:https://www.spartatkd.com/wp-content/uploads/2023/09/tips2v2.jpg
END:VEVENT
END:VCALENDAR