BEGIN:VCALENDAR
VERSION:2.0
PRODID:-//Sparta Taekwondo - ECPv6.15.20//NONSGML v1.0//EN
CALSCALE:GREGORIAN
METHOD:PUBLISH
X-WR-CALNAME:Sparta Taekwondo
X-ORIGINAL-URL:https://www.spartatkd.com
X-WR-CALDESC:Events for Sparta Taekwondo
REFRESH-INTERVAL;VALUE=DURATION:PT1H
X-Robots-Tag:noindex
X-PUBLISHED-TTL:PT1H
BEGIN:VTIMEZONE
TZID:UTC
BEGIN:STANDARD
TZOFFSETFROM:+0000
TZOFFSETTO:+0000
TZNAME:UTC
DTSTART:20250101T000000
END:STANDARD
END:VTIMEZONE
BEGIN:VEVENT
DTSTART;VALUE=DATE:20260403
DTEND;VALUE=DATE:20260407
DTSTAMP:20260423T192950
CREATED:20260120T032918Z
LAST-MODIFIED:20260120T033434Z
UID:1374-1775199600-1775458799@www.spartatkd.com
SUMMARY:Easter Weekend - No Classes!
DESCRIPTION:No Classes! Enjoy your weekend off!
URL:https://www.spartatkd.com/event/easter-weekend-no-classes-2/
LOCATION:CA
END:VEVENT
END:VCALENDAR