BEGIN:VCALENDAR
VERSION:2.0
PRODID:-//Sparta Taekwondo - ECPv6.15.20//NONSGML v1.0//EN
CALSCALE:GREGORIAN
METHOD:PUBLISH
X-WR-CALNAME:Sparta Taekwondo
X-ORIGINAL-URL:https://www.spartatkd.com
X-WR-CALDESC:Events for Sparta Taekwondo
REFRESH-INTERVAL;VALUE=DURATION:PT1H
X-Robots-Tag:noindex
X-PUBLISHED-TTL:PT1H
BEGIN:VTIMEZONE
TZID:UTC
BEGIN:STANDARD
TZOFFSETFROM:+0000
TZOFFSETTO:+0000
TZNAME:UTC
DTSTART:20250101T000000
END:STANDARD
END:VTIMEZONE
BEGIN:VEVENT
DTSTART;TZID=UTC:20260706T223000
DTEND;TZID=UTC:20260710T030000
DTSTAMP:20260423T223455
CREATED:20260301T213220Z
LAST-MODIFIED:20260301T213220Z
UID:1423-1783377000-1783652400@www.spartatkd.com
SUMMARY:Tip Testing
DESCRIPTION:Tip testing will occur during our regular class times. Please attend even if you are not testing!
URL:https://www.spartatkd.com/event/tip-testing-20/
LOCATION:Shadelands Sportsmall\, 2640 Shadelands Dr\, Walnut Creek\, CA\, 94598\, United States
END:VEVENT
END:VCALENDAR