BEGIN:VCALENDAR
VERSION:2.0
PRODID:-//Sparta Taekwondo - ECPv6.15.20//NONSGML v1.0//EN
CALSCALE:GREGORIAN
METHOD:PUBLISH
X-WR-CALNAME:Sparta Taekwondo
X-ORIGINAL-URL:https://www.spartatkd.com
X-WR-CALDESC:Events for Sparta Taekwondo
REFRESH-INTERVAL;VALUE=DURATION:PT1H
X-Robots-Tag:noindex
X-PUBLISHED-TTL:PT1H
BEGIN:VTIMEZONE
TZID:UTC
BEGIN:STANDARD
TZOFFSETFROM:+0000
TZOFFSETTO:+0000
TZNAME:UTC
DTSTART:20240101T000000
END:STANDARD
END:VTIMEZONE
BEGIN:VEVENT
DTSTART;TZID=UTC:20260221T030000
DTEND;TZID=UTC:20260221T043000
DTSTAMP:20260423T230135
CREATED:20260120T032303Z
LAST-MODIFIED:20260120T032303Z
UID:1366-1771642800-1771648200@www.spartatkd.com
SUMMARY:Belt Graduation Potluck
DESCRIPTION:Join us in celebrating our students receiving their new belts! All families are invited to participate in a school-wide potluck after the ceremony. \nLocation: Main Dojang \nTime: 7:00 PM – 8:30 PM
URL:https://www.spartatkd.com/event/belt-graduation-potluck/
LOCATION:Shadelands Sportsmall\, 2640 Shadelands Dr\, Walnut Creek\, CA\, 94598\, United States
END:VEVENT
BEGIN:VEVENT
DTSTART;TZID=UTC:20260217T233000
DTEND;TZID=UTC:20260221T193000
DTSTAMP:20260423T230135
CREATED:20260120T032035Z
LAST-MODIFIED:20260120T032035Z
UID:1364-1771371000-1771702200@www.spartatkd.com
SUMMARY:Buddy Week: Bring your Parent/Significant Other to Class!
DESCRIPTION:Bring your parent\, guardian\, or significant other with you to class this week! \nLocation: Main Dojang \nDates: Tuesday\, February 17 – Saturday\, February 21 during your normal class time \nGentle reminder that there is no class on Monday this week!
URL:https://www.spartatkd.com/event/buddy-week-bring-your-parent-significant-other-to-class/
LOCATION:Shadelands Sportsmall\, 2640 Shadelands Dr\, Walnut Creek\, CA\, 94598\, United States
END:VEVENT
BEGIN:VEVENT
DTSTART;VALUE=DATE:20260216
DTEND;VALUE=DATE:20260217
DTSTAMP:20260423T230135
CREATED:20251220T034839Z
LAST-MODIFIED:20251220T034839Z
UID:1351-1771200000-1771286399@www.spartatkd.com
SUMMARY:President's Day - No Classes
DESCRIPTION:No Classes! Enjoy your Monday off! \n 
URL:https://www.spartatkd.com/event/presidents-day-no-classes-2/
LOCATION:CA
ATTACH;FMTTYPE=image/jpeg:https://www.spartatkd.com/wp-content/uploads/2025/01/2025-Presidents-day.jpg
END:VEVENT
BEGIN:VEVENT
DTSTART;TZID=UTC:20260215T010000
DTEND;TZID=UTC:20260215T050000
DTSTAMP:20260423T230135
CREATED:20260120T031325Z
LAST-MODIFIED:20260120T034706Z
UID:1362-1771117200-1771131600@www.spartatkd.com
SUMMARY:Parents' Night Out!
DESCRIPTION:See attached flyer for more details. \nPlease register here by Saturday\, February 7th! \nLocation: Main Dojang \nTime: 5:00 PM – 9:00 PM
URL:https://www.spartatkd.com/event/parents-night-out-2/
LOCATION:Shadelands Sportsmall\, 2640 Shadelands Dr\, Walnut Creek\, CA\, 94598\, United States
END:VEVENT
BEGIN:VEVENT
DTSTART;TZID=UTC:20260214T170000
DTEND;TZID=UTC:20260214T200000
DTSTAMP:20260423T230135
CREATED:20251220T034642Z
LAST-MODIFIED:20260120T223131Z
UID:1349-1771088400-1771099200@www.spartatkd.com
SUMMARY:Belt Testing - NO Saturday Classes
DESCRIPTION:White to Yellow Advanced:  9:00-10:30\nOrange to Red Adv: 10:45 – 12:00 (Please be at the dojang by 10:30 just in case 1st group finish early)\nFees:  White – Green Adv $55 / Blue – Red Adv $60 / Poom $80\nPlease come in full uniform and for yellow and above\, please bring your sparring gear. Please trim your nails.\n\nPayment for testing\nBelt testing fees and applications are both due Feb. 9\, 2026.  After Feb. 9th\, $20 late fees applies. If paying via Zelle\, please put your child’s name in the memo section.
URL:https://www.spartatkd.com/event/belt-testing-no-saturday-classes-9/
LOCATION:CA
ATTACH;FMTTYPE=image/jpeg:https://www.spartatkd.com/wp-content/uploads/2023/09/beltsv2.jpg
END:VEVENT
BEGIN:VEVENT
DTSTART;TZID=UTC:20260207T023000
DTEND;TZID=UTC:20260207T043000
DTSTAMP:20260423T230135
CREATED:20260118T015643Z
LAST-MODIFIED:20260120T223109Z
UID:1358-1770431400-1770438600@www.spartatkd.com
SUMMARY:Team Sparta Try Outs
DESCRIPTION:See attached flyer for more details! \nTime: 6:30PM – 8:30PM\nLocation: Main Dojang
URL:https://www.spartatkd.com/event/team-sparta-try-out/
LOCATION:Shadelands Sportsmall\, 2640 Shadelands Dr\, Walnut Creek\, CA\, 94598\, United States
END:VEVENT
BEGIN:VEVENT
DTSTART;TZID=UTC:20260202T233000
DTEND;TZID=UTC:20260206T033000
DTSTAMP:20260423T230135
CREATED:20251220T034156Z
LAST-MODIFIED:20260120T223035Z
UID:1347-1770075000-1770348600@www.spartatkd.com
SUMMARY:Tip Testing
DESCRIPTION:Tip Testing during normal class time. Please come even if you’re not tip testing.
URL:https://www.spartatkd.com/event/tip-testing-15/
LOCATION:CA
ATTACH;FMTTYPE=image/jpeg:https://www.spartatkd.com/wp-content/uploads/2023/09/tips2v2.jpg
END:VEVENT
BEGIN:VEVENT
DTSTART;VALUE=DATE:20260101
DTEND;VALUE=DATE:20260102
DTSTAMP:20260423T230135
CREATED:20251209T232522Z
LAST-MODIFIED:20251209T232522Z
UID:1342-1767225600-1767311999@www.spartatkd.com
SUMMARY:HAPPY  NEW YEAR 2026
DESCRIPTION:Wishing you all a Happy and Prosperous 2026!
URL:https://www.spartatkd.com/event/happy-new-year-2026/
LOCATION:CA
ATTACH;FMTTYPE=image/jpeg:https://www.spartatkd.com/wp-content/uploads/2025/12/2026-HNY-scaled.jpg
END:VEVENT
BEGIN:VEVENT
DTSTART;VALUE=DATE:20251222
DTEND;VALUE=DATE:20260104
DTSTAMP:20260423T230135
CREATED:20251209T231546Z
LAST-MODIFIED:20251209T232211Z
UID:1337-1766361600-1767484799@www.spartatkd.com
SUMMARY:Year-end / Holiday Break
DESCRIPTION:Sparta will be closed 12/22/25 – 1/3/26 \n  \nTake lots of pictures and have fun with family and friends. Enjoy your holiday break!
URL:https://www.spartatkd.com/event/year-end-holiday-break/
LOCATION:CA
ATTACH;FMTTYPE=image/jpeg:https://www.spartatkd.com/wp-content/uploads/2025/12/2025-holiday-greeting.jpg
END:VEVENT
BEGIN:VEVENT
DTSTART;TZID=UTC:20251215T153000
DTEND;TZID=UTC:20251218T200000
DTSTAMP:20260423T230135
CREATED:20251118T130512Z
LAST-MODIFIED:20251209T225837Z
UID:1332-1765812600-1766088000@www.spartatkd.com
SUMMARY:Bring a buddy week!
DESCRIPTION:Each participating guest needs a parent signed waiver.  Please print waiver below. \nfile:///C:/Users/jimvi/OneDrive/New%20Sparta/New%20Sparta/Sparta/Events/Event%20waiver.pdf \n 
URL:https://www.spartatkd.com/event/sparring-week/
LOCATION:CA
END:VEVENT
BEGIN:VEVENT
DTSTART;TZID=UTC:20251214T140000
DTEND;TZID=UTC:20251214T170000
DTSTAMP:20260423T230135
CREATED:20250830T021222Z
LAST-MODIFIED:20251118T122853Z
UID:1290-1765720800-1765731600@www.spartatkd.com
SUMMARY:2025 Sparta Holiday Get-together
DESCRIPTION:Please sign up at the dojang for number of people attending. We want to make sure we have enough food for everyone. \nWe also need volunteers to set-up and clean-up. If you have 1 hour or 2\, we would really appreciate it. \n  \n 
URL:https://www.spartatkd.com/event/sparta-holiday-get-together/
LOCATION:Walnut Country Clubhouse\, 4465 S. Larwin Ave\, Concord\, CA\, 94521\, United States
ATTACH;FMTTYPE=image/jpeg:https://www.spartatkd.com/wp-content/uploads/2025/08/OIP-2.jpg
END:VEVENT
BEGIN:VEVENT
DTSTART;TZID=UTC:20251213T090000
DTEND;TZID=UTC:20251213T120000
DTSTAMP:20260423T230135
CREATED:20251118T130246Z
LAST-MODIFIED:20251118T130246Z
UID:1330-1765616400-1765627200@www.spartatkd.com
SUMMARY:Belt Testing - NO Saturday Classes
DESCRIPTION:White to Yellow Advanced:  9:00-10:30\nOrange to Red Adv: 10:45 – 12:00 (Please be at the dojang by 10:30 just in case 1st group finish early)\nPlease come in full uniform and for yellow and above\, please bring your sparring gear. Please trim your nails.\n\nPayment for testing\nBelt testing fees and applications are both due Dec. 8\, 2025.  After Dec. 8th\, $20 late fees applies. If paying via Zelle\, please put your child’s name in the memo section.
URL:https://www.spartatkd.com/event/belt-testing-no-saturday-classes-8/
LOCATION:CA
ATTACH;FMTTYPE=image/jpeg:https://www.spartatkd.com/wp-content/uploads/2023/09/beltsv2.jpg
END:VEVENT
BEGIN:VEVENT
DTSTART;TZID=UTC:20251201T153000
DTEND;TZID=UTC:20251204T193000
DTSTAMP:20260423T230135
CREATED:20251118T130004Z
LAST-MODIFIED:20251118T130004Z
UID:1328-1764603000-1764876600@www.spartatkd.com
SUMMARY:Tip Testing
DESCRIPTION:Tip Testing during normal class time. Please come even if you’re not tip testing.
URL:https://www.spartatkd.com/event/tip-testing-14/
LOCATION:CA
ATTACH;FMTTYPE=image/jpeg:https://www.spartatkd.com/wp-content/uploads/2023/09/tips2v2.jpg
END:VEVENT
BEGIN:VEVENT
DTSTART;VALUE=DATE:20251126
DTEND;VALUE=DATE:20251201
DTSTAMP:20260423T230135
CREATED:20250830T020748Z
LAST-MODIFIED:20250830T020748Z
UID:1285-1764115200-1764547199@www.spartatkd.com
SUMMARY:Happy Thanksgiving - NO Classes
DESCRIPTION:Happy Thanksgiving to all. Enjoy this day with family and friends!
URL:https://www.spartatkd.com/event/happy-thanksgiving-no-classes/
LOCATION:CA
ATTACH;FMTTYPE=image/jpeg:https://www.spartatkd.com/wp-content/uploads/2025/08/OIP-1.jpg
END:VEVENT
BEGIN:VEVENT
DTSTART;TZID=UTC:20251123T080000
DTEND;TZID=UTC:20251123T170000
DTSTAMP:20260423T230135
CREATED:20250830T020913Z
LAST-MODIFIED:20251118T122448Z
UID:1288-1763884800-1763917200@www.spartatkd.com
SUMMARY:UC Davis Tournament
DESCRIPTION:University Credit Union Center at 750 Orchard Rd\, Davis\, CA 95616 \nIf sparring\, please be in your complete uniform. Trim your nails. Bring a hand towel and change of clothes. Don’t forget your water and some snacks just in case the tournament takes a little longer. \nIf doing poomsae\, please make sure you iron your uniform and fix your hair. Appearance is also a criteria. \n 
URL:https://www.spartatkd.com/event/uc-davis-tournament/
LOCATION:University Credit Union Center\, 750 Orchard Rd\, Davis\, CA\, 95616\, United States
END:VEVENT
BEGIN:VEVENT
DTSTART;VALUE=DATE:20251031
DTEND;VALUE=DATE:20251101
DTSTAMP:20260423T230135
CREATED:20250830T015430Z
LAST-MODIFIED:20250830T015430Z
UID:1282-1761868800-1761955199@www.spartatkd.com
SUMMARY:Happy Halloween - NO Classes
DESCRIPTION:Trick or Treat! Please stay safe.
URL:https://www.spartatkd.com/event/happy-halloween-no-classes-2/
LOCATION:CA
ATTACH;FMTTYPE=image/jpeg:https://www.spartatkd.com/wp-content/uploads/2025/08/OIP.jpg
END:VEVENT
BEGIN:VEVENT
DTSTART;TZID=UTC:20251011T080000
DTEND;TZID=UTC:20251011T170000
DTSTAMP:20260423T230135
CREATED:20250830T015112Z
LAST-MODIFIED:20250830T015112Z
UID:1279-1760169600-1760202000@www.spartatkd.com
SUMMARY:42nd Silicon Valley Tournament
DESCRIPTION:Please register at:  https://siliconvalleytkdopen.com/ \nAthlete early registration ends September 14\, 2025. \nAthlete final registration ends October 5\, 2025. \nYerba Buena High School\n1855 Lucretia Avenue\nSan Jose\, CA 95122 \nPlease sign up at the dojang if you are attending so we can make sure we have enough coaches attending. \n  \n 
URL:https://www.spartatkd.com/event/42nd-silicon-valley-tournament/
LOCATION:CA
ATTACH;FMTTYPE=image/png:https://www.spartatkd.com/wp-content/uploads/2025/08/mail.png
END:VEVENT
BEGIN:VEVENT
DTSTART;TZID=UTC:20251004T090000
DTEND;TZID=UTC:20251004T120000
DTSTAMP:20260423T230135
CREATED:20250830T013329Z
LAST-MODIFIED:20250830T013426Z
UID:1277-1759568400-1759579200@www.spartatkd.com
SUMMARY:Belt Testing - NO Saturday Classes
DESCRIPTION:White to Yellow Advanced:  9:00-10:30\nOrange to Red Adv: 10:45 – 12:00 (Please be at the dojang by 10:30 just in case 1st group finish early)\nPlease come in full uniform and for yellow and above\, please bring your sparring gear. Please trim your nails.\n\nPayment for testing\nBelt testing fees and applications are both due Sept. 29\, 2025.  After Sept. 29th\, $20 late fees applies. If paying via Zelle\, please put your child’s name in the memo section.
URL:https://www.spartatkd.com/event/belt-testing-no-saturday-classes-7/
LOCATION:CA
ATTACH;FMTTYPE=image/jpeg:https://www.spartatkd.com/wp-content/uploads/2023/09/beltsv2.jpg
END:VEVENT
BEGIN:VEVENT
DTSTART;TZID=UTC:20250922T153000
DTEND;TZID=UTC:20250925T193000
DTSTAMP:20260423T230135
CREATED:20250830T013100Z
LAST-MODIFIED:20250830T013100Z
UID:1275-1758555000-1758828600@www.spartatkd.com
SUMMARY:Tip Testing
DESCRIPTION:Tip Testing during normal class time. Please come even if you’re not tip testing.
URL:https://www.spartatkd.com/event/tip-testing-13/
LOCATION:CA
ATTACH;FMTTYPE=image/jpeg:https://www.spartatkd.com/wp-content/uploads/2023/09/tips2v2.jpg
END:VEVENT
BEGIN:VEVENT
DTSTART;TZID=UTC:20250830T080000
DTEND;TZID=UTC:20250901T170000
DTSTAMP:20260423T230135
CREATED:20250830T012936Z
LAST-MODIFIED:20250830T012936Z
UID:1272-1756540800-1756746000@www.spartatkd.com
SUMMARY:Labor Day Weekend - NO Classes
DESCRIPTION:Enjoy your long weekend!
URL:https://www.spartatkd.com/event/labor-day-weekend-no-classes/
LOCATION:CA
ATTACH;FMTTYPE=image/jpeg:https://www.spartatkd.com/wp-content/uploads/2025/08/th.jpg
END:VEVENT
BEGIN:VEVENT
DTSTART;TZID=UTC:20250607T140000
DTEND;TZID=UTC:20250607T170000
DTSTAMP:20260423T230135
CREATED:20250415T000235Z
LAST-MODIFIED:20250415T000235Z
UID:1264-1749304800-1749315600@www.spartatkd.com
SUMMARY:Rumble in June!
DESCRIPTION:Get Ready for the Improved Rumble Event – Secure Your Athlete’s Spot!\n\nThank you for the great feedback from our last event! We’re excited to host an even better Rumble this time around\, designed to help athletes prepare for AAU & USAT Nationals.\n\nEvent Features: UNLIMITED FIGHTS PROFESSIONAL REFEREES SCORED MATCHES A chance to connect with other teams across the Bay Area!\n\nEvent Details: Date: Saturday\, June 7th\, 2025\n                         Time: 2:00 PM – 5:00 PM (may extend depending on turnout)\n                         Group Warm-up & Children’s Division (under 8 years old): 1:30 PM\n\nRegistration Information: Early Registration (April 15 – May 15): $50\n                                             Regular Registration (May 16 – June 6): $55\n                                            Same-Day Registration: $60\n\nNew Features: Scoring Court (Optional): $10 Consensual Headshots: Optional (Fighters can choose not to receive headshots)\nSpecial Challenge: A surprise prize challenge will take place at the end of the Rumble for all athletes!\n\n How to Sign Up: Click this link to register: https://forms.gle/svAA17sdsGpGSjBCA  Or scan the QR code for more details. (see attached)\n\n\n\n\n\n\n\n\n\n\n\n\n\n\n\n\nforms.gle
URL:https://www.spartatkd.com/event/rumble-in-june/
LOCATION:CA
ATTACH;FMTTYPE=image/jpeg:https://www.spartatkd.com/wp-content/uploads/2025/04/2025-June-Rumble.jpg
END:VEVENT
BEGIN:VEVENT
DTSTART;TZID=UTC:20250607T090000
DTEND;TZID=UTC:20250607T120000
DTSTAMP:20260423T230135
CREATED:20250325T013631Z
LAST-MODIFIED:20250325T013730Z
UID:1258-1749286800-1749297600@www.spartatkd.com
SUMMARY:Belt Testing - NO Saturday Classes
DESCRIPTION:White to Yellow Advanced:  9:00-10:30\nOrange to Red Adv: 10:45 – 12:00 (Please be at the dojang by 10:30 just in case 1st group finish early)\nPlease come in full uniform and for yellow and above\, please bring your sparring gear.\n\nPayment for testing\nBelt testing fees and applications are both due Jun. 2\, 2025.  After Jun. 2nd\, $20 late fees applies. If paying via Zelle\, please put your child’s name in the memo section.
URL:https://www.spartatkd.com/event/belt-testing-no-saturday-classes-6/
LOCATION:CA
ATTACH;FMTTYPE=image/jpeg:https://www.spartatkd.com/wp-content/uploads/2023/09/beltsv2.jpg
END:VEVENT
BEGIN:VEVENT
DTSTART;TZID=UTC:20250527T153000
DTEND;TZID=UTC:20250529T193000
DTSTAMP:20260423T230135
CREATED:20250325T013227Z
LAST-MODIFIED:20250325T013919Z
UID:1254-1748359800-1748547000@www.spartatkd.com
SUMMARY:Tip Testing
DESCRIPTION:Tip Testing during normal class time. Please come even if you’re not tip testing.
URL:https://www.spartatkd.com/event/tip-testing-12/
LOCATION:CA
ATTACH;FMTTYPE=image/jpeg:https://www.spartatkd.com/wp-content/uploads/2023/09/tips2v2.jpg
END:VEVENT
BEGIN:VEVENT
DTSTART;VALUE=DATE:20250524
DTEND;VALUE=DATE:20250527
DTSTAMP:20260423T230135
CREATED:20250325T014056Z
LAST-MODIFIED:20250325T014152Z
UID:1261-1748044800-1748303999@www.spartatkd.com
SUMMARY:Memorial Day Weekend - Sparta is closed!
DESCRIPTION:Enjoy your weekend. We salute and thank all our military personel\, both active and retired for keeping us safe.
URL:https://www.spartatkd.com/event/memorial-day-weekend-sparta-is-closed-2/
LOCATION:CA
ATTACH;FMTTYPE=image/jpeg:https://www.spartatkd.com/wp-content/uploads/2024/03/2024-memorial-day.jpg
END:VEVENT
BEGIN:VEVENT
DTSTART;TZID=UTC:20250510T170000
DTEND;TZID=UTC:20250510T210000
DTSTAMP:20260423T230135
CREATED:20250415T001030Z
LAST-MODIFIED:20250415T001030Z
UID:1267-1746896400-1746910800@www.spartatkd.com
SUMMARY:Parent's Night Out
DESCRIPTION:Parents Night Out – Take a Break This Mother’s Day Weekend!\n\n We’ve got the perfect way for parents to enjoy a little me-time this Mother’s Day weekend! Join us for Parents Night Out at Sparta Taekwondo!\n\nEvent Details: Date: Saturday\, May 10th\, 2025\n                         Time: 5:00 PM – 9:00 PM\n                         Location: Sparta Taekwondo Studio\n                        Cost: $50 per child (Includes Pizza Dinner & water)\n\nParents\, Take a Break! You deserve some time for yourself! While you enjoy a date night or simply relax\, we’ll take care of the kids (age 7 and above) with fun\, Taekwondo-inspired activities\, all supervised by our qualified coaches.\n\nWhat’s Included: Fun\, Taekwondo-inspired games and activities  Supervision by Sparta’s qualified coaches  A safe and secure environment \n\nHow to Sign Up: Complete the registration form to sign up your child(ren) here:  https://forms.gle/aFLgT2SGLoWRBfj2A  Or scan the QR code for more details.\n\n\n\n\n\n\n\n\n\n\n\n\n\n\n\n\nforms.gle
URL:https://www.spartatkd.com/event/parents-night-out/
LOCATION:CA
ATTACH;FMTTYPE=image/jpeg:https://www.spartatkd.com/wp-content/uploads/2025/04/2025-June-Parents-night-out.jpg
END:VEVENT
BEGIN:VEVENT
DTSTART;VALUE=DATE:20250418
DTEND;VALUE=DATE:20250420
DTSTAMP:20260423T230135
CREATED:20250114T030456Z
LAST-MODIFIED:20250114T031749Z
UID:1230-1744934400-1745107199@www.spartatkd.com
SUMMARY:Easter Weekend - NO Classes
DESCRIPTION:Enjoy your holiday break! Happy Easter
URL:https://www.spartatkd.com/event/easter-weekend-no-classes/
LOCATION:CA
ATTACH;FMTTYPE=image/jpeg:https://www.spartatkd.com/wp-content/uploads/2025/01/2025-easter.jpg
END:VEVENT
BEGIN:VEVENT
DTSTART;TZID=UTC:20250412T090000
DTEND;TZID=UTC:20250412T120000
DTSTAMP:20260423T230135
CREATED:20250325T013444Z
LAST-MODIFIED:20250325T013444Z
UID:1256-1744448400-1744459200@www.spartatkd.com
SUMMARY:Belt Testing - NO Saturday Classes
DESCRIPTION:White to Yellow Advanced:  9:00-10:30\nOrange to Red Adv: 10:45 – 12:00 (Please be there by 10:30 just in case 1st group finish early)\nPlease come in full uniform and for yellow and above\, please bring your sparring gear.\n\n\nPayment for testing\nBelt testing fees and applications are both due Apr. 7\, 2025.  After Apr. 7th\, $20 late fees applies. If paying via Zelle\, please put your child’s name in the memo section.
URL:https://www.spartatkd.com/event/belt-testing-no-saturday-classes-5/
LOCATION:CA
ATTACH;FMTTYPE=image/jpeg:https://www.spartatkd.com/wp-content/uploads/2023/09/beltsv2.jpg
END:VEVENT
BEGIN:VEVENT
DTSTART;TZID=UTC:20250331T153000
DTEND;TZID=UTC:20250403T193000
DTSTAMP:20260423T230135
CREATED:20250325T013003Z
LAST-MODIFIED:20250325T013003Z
UID:1251-1743435000-1743708600@www.spartatkd.com
SUMMARY:Tip Testing
DESCRIPTION:Tip Testing during normal class time. Please come even if you’re not tip testing.
URL:https://www.spartatkd.com/event/tip-testing-11/
LOCATION:CA
ATTACH;FMTTYPE=image/jpeg:https://www.spartatkd.com/wp-content/uploads/2023/09/tips2v2.jpg
END:VEVENT
BEGIN:VEVENT
DTSTART;TZID=UTC:20250328T080000
DTEND;TZID=UTC:20250330T170000
DTSTAMP:20260423T230135
CREATED:20250114T025558Z
LAST-MODIFIED:20250114T025558Z
UID:1227-1743148800-1743354000@www.spartatkd.com
SUMMARY:2025 California State Taekwondo Championships
DESCRIPTION:2025 CA State Taekwondo Championship \nFri – Sun\, Mar 28-30 \nFresno Convention Center Selland Arena\n700 M Street\nFresno\, CA 93721 \nALL participants MUST register at https://catkd.org/events/ \nEARLY REGISTRATION DEADLINE IS JAN. 27TH \nDaedo socks required for all sparring competitors. You can order from me or visit http://bit.ly/3aTqDQI. You can also call Truescore at 510-556-5516 (option 1) or\nemail karina@truescore.com. \nMale and Female cup protector required.
URL:https://www.spartatkd.com/event/2025-california-state-taekwondo-championships/
LOCATION:Fresno Convention Center\, 2233 Ventura St\, Fresno\, CA\, 93721\, United States
ATTACH;FMTTYPE=image/jpeg:https://www.spartatkd.com/wp-content/uploads/2025/01/2025-CA-State-Championship.jpg
END:VEVENT
BEGIN:VEVENT
DTSTART;TZID=UTC:20250301T080000
DTEND;TZID=UTC:20250301T200000
DTSTAMP:20260423T230135
CREATED:20250114T025215Z
LAST-MODIFIED:20250114T034156Z
UID:1222-1740816000-1740859200@www.spartatkd.com
SUMMARY:AAU Taekwondo 2025 Super Regional Championship
DESCRIPTION:AAU Taekwondo 2025 Super Regional Championship\nSat\, Mar 1\, 2025 (8:00 AM – 8:00 PM)\n435 Market St. San Jose (Convention Center South Hall)\nThis is an AAU National Qualifier Event \nEveryone must be an AAU member to compete\, coach\, or to officiate. Participants who place first through eighth in the qualifying events will qualify to participate at the AAU National Championships 2025 in Salt Lake City\, UT. Visit www.AAUTKDRegion13.com for more information or to obtain a membership. \nOlympic Sparring Black Belts 10 & up MUST weigh-in on Friday February 28th at the San Jose Convention Center South Hall from 4:00pm-6:00pm
URL:https://www.spartatkd.com/event/aau-taekwondo-2025-super-regional-championship/
LOCATION:san jose convention center south hall\, 435 Market St.\, San Jose\, CA\, United States
ATTACH;FMTTYPE=image/jpeg:https://www.spartatkd.com/wp-content/uploads/2025/01/2025-AAU-regionals-1.jpg
END:VEVENT
END:VCALENDAR