BEGIN:VCALENDAR
VERSION:2.0
PRODID:-//Sparta Taekwondo - ECPv6.15.20//NONSGML v1.0//EN
CALSCALE:GREGORIAN
METHOD:PUBLISH
X-ORIGINAL-URL:https://www.spartatkd.com
X-WR-CALDESC:Events for Sparta Taekwondo
REFRESH-INTERVAL;VALUE=DURATION:PT1H
X-Robots-Tag:noindex
X-PUBLISHED-TTL:PT1H
BEGIN:VTIMEZONE
TZID:UTC
BEGIN:STANDARD
TZOFFSETFROM:+0000
TZOFFSETTO:+0000
TZNAME:UTC
DTSTART:20250101T000000
END:STANDARD
END:VTIMEZONE
BEGIN:VEVENT
DTSTART;TZID=UTC:20260504T223000
DTEND;TZID=UTC:20260508T030000
DTSTAMP:20260423T193510
CREATED:20260301T212954Z
LAST-MODIFIED:20260301T212954Z
UID:1417-1777933800-1778209200@www.spartatkd.com
SUMMARY:Tip Testing
DESCRIPTION:Tip testing will occur during our regular class times. Please attend even if you are not testing!
URL:https://www.spartatkd.com/event/tip-testing-18/
LOCATION:Shadelands Sportsmall\, 2640 Shadelands Dr\, Walnut Creek\, CA\, 94598\, United States
END:VEVENT
BEGIN:VEVENT
DTSTART;TZID=UTC:20260601T223000
DTEND;TZID=UTC:20260605T030000
DTSTAMP:20260423T193510
CREATED:20260301T213033Z
LAST-MODIFIED:20260301T213033Z
UID:1418-1780353000-1780628400@www.spartatkd.com
SUMMARY:Tip Testing
DESCRIPTION:Tip testing will occur during our regular class times. Please attend even if you are not testing!
URL:https://www.spartatkd.com/event/tip-testing-19/
LOCATION:Shadelands Sportsmall\, 2640 Shadelands Dr\, Walnut Creek\, CA\, 94598\, United States
END:VEVENT
BEGIN:VEVENT
DTSTART;TZID=UTC:20260613T160000
DTEND;TZID=UTC:20260613T190000
DTSTAMP:20260423T193510
CREATED:20260301T213137Z
LAST-MODIFIED:20260301T213137Z
UID:1421-1781366400-1781377200@www.spartatkd.com
SUMMARY:Belt Testing - NO Saturday Classes
DESCRIPTION:White to Yellow Advanced:  9:00-10:30\nOrange to Red Adv: 10:45 – 12:00 (Please be at the dojang by 10:30 just in case 1st group finish early)\nFees:  White – Green Adv $55 / Blue – Red Adv $60 / Poom $80\nPlease come in full uniform and for yellow and above\, please bring your sparring gear. Please trim your nails.\n\nPayment for testing\nBelt testing fees and applications are both due June 8\, 2026.  After June 8\, $20 late fees applies. If paying via Zelle\, please put your child’s name in the memo section.
URL:https://www.spartatkd.com/event/belt-testing-no-saturday-classes-11/
LOCATION:Shadelands Sportsmall\, 2640 Shadelands Dr\, Walnut Creek\, CA\, 94598\, United States
ATTACH;FMTTYPE=image/jpeg:https://www.spartatkd.com/wp-content/uploads/2023/09/beltsv2.jpg
END:VEVENT
BEGIN:VEVENT
DTSTART;TZID=UTC:20260620T020000
DTEND;TZID=UTC:20260620T033000
DTSTAMP:20260423T193510
CREATED:20260301T214158Z
LAST-MODIFIED:20260301T214158Z
UID:1442-1781920800-1781926200@www.spartatkd.com
SUMMARY:Belt Graduation Potluck
DESCRIPTION:Join us in celebrating our students receiving their new belts! All families are invited to participate in a school-wide potluck after the ceremony. \nLocation: Main Dojang \nTime: 7:00 PM – 8:30 PM
URL:https://www.spartatkd.com/event/belt-graduation-potluck-3/
LOCATION:Shadelands Sportsmall\, 2640 Shadelands Dr\, Walnut Creek\, CA\, 94598\, United States
END:VEVENT
BEGIN:VEVENT
DTSTART;TZID=UTC:20260706T223000
DTEND;TZID=UTC:20260710T030000
DTSTAMP:20260423T193510
CREATED:20260301T213220Z
LAST-MODIFIED:20260301T213220Z
UID:1423-1783377000-1783652400@www.spartatkd.com
SUMMARY:Tip Testing
DESCRIPTION:Tip testing will occur during our regular class times. Please attend even if you are not testing!
URL:https://www.spartatkd.com/event/tip-testing-20/
LOCATION:Shadelands Sportsmall\, 2640 Shadelands Dr\, Walnut Creek\, CA\, 94598\, United States
END:VEVENT
BEGIN:VEVENT
DTSTART;TZID=UTC:20260803T223000
DTEND;TZID=UTC:20260807T030000
DTSTAMP:20260423T193510
CREATED:20260301T213245Z
LAST-MODIFIED:20260301T213245Z
UID:1424-1785796200-1786071600@www.spartatkd.com
SUMMARY:Tip Testing
DESCRIPTION:Tip testing will occur during our regular class times. Please attend even if you are not testing!
URL:https://www.spartatkd.com/event/tip-testing-21/
LOCATION:Shadelands Sportsmall\, 2640 Shadelands Dr\, Walnut Creek\, CA\, 94598\, United States
END:VEVENT
BEGIN:VEVENT
DTSTART;TZID=UTC:20260815T160000
DTEND;TZID=UTC:20260815T190000
DTSTAMP:20260423T193510
CREATED:20260301T213338Z
LAST-MODIFIED:20260301T213338Z
UID:1427-1786809600-1786820400@www.spartatkd.com
SUMMARY:Belt Testing - NO Saturday Classes
DESCRIPTION:White to Yellow Advanced:  9:00-10:30\nOrange to Red Adv: 10:45 – 12:00 (Please be at the dojang by 10:30 just in case 1st group finish early)\nFees:  White – Green Adv $55 / Blue – Red Adv $60 / Poom $80\nPlease come in full uniform and for yellow and above\, please bring your sparring gear. Please trim your nails.\n\nPayment for testing\nBelt testing fees and applications are both due August 10\, 2026.  After August 10\, $20 late fees applies. If paying via Zelle\, please put your child’s name in the memo section.
URL:https://www.spartatkd.com/event/belt-testing-no-saturday-classes-12/
LOCATION:Shadelands Sportsmall\, 2640 Shadelands Dr\, Walnut Creek\, CA\, 94598\, United States
ATTACH;FMTTYPE=image/jpeg:https://www.spartatkd.com/wp-content/uploads/2023/09/beltsv2.jpg
END:VEVENT
BEGIN:VEVENT
DTSTART;TZID=UTC:20260822T020000
DTEND;TZID=UTC:20260822T033000
DTSTAMP:20260423T193510
CREATED:20260301T214229Z
LAST-MODIFIED:20260301T214229Z
UID:1444-1787364000-1787369400@www.spartatkd.com
SUMMARY:Belt Graduation Potluck
DESCRIPTION:Join us in celebrating our students receiving their new belts! All families are invited to participate in a school-wide potluck after the ceremony. \nLocation: Main Dojang \nTime: 7:00 PM – 8:30 PM
URL:https://www.spartatkd.com/event/belt-graduation-potluck-4/
LOCATION:Shadelands Sportsmall\, 2640 Shadelands Dr\, Walnut Creek\, CA\, 94598\, United States
END:VEVENT
BEGIN:VEVENT
DTSTART;TZID=UTC:20260907T223000
DTEND;TZID=UTC:20260911T030000
DTSTAMP:20260423T193510
CREATED:20260301T213423Z
LAST-MODIFIED:20260301T213423Z
UID:1429-1788820200-1789095600@www.spartatkd.com
SUMMARY:Tip Testing
DESCRIPTION:Tip testing will occur during our regular class times. Please attend even if you are not testing!
URL:https://www.spartatkd.com/event/tip-testing-22/
LOCATION:Shadelands Sportsmall\, 2640 Shadelands Dr\, Walnut Creek\, CA\, 94598\, United States
END:VEVENT
BEGIN:VEVENT
DTSTART;TZID=UTC:20261005T223000
DTEND;TZID=UTC:20261009T030000
DTSTAMP:20260423T193510
CREATED:20260301T213446Z
LAST-MODIFIED:20260301T213446Z
UID:1430-1791239400-1791514800@www.spartatkd.com
SUMMARY:Tip Testing
DESCRIPTION:Tip testing will occur during our regular class times. Please attend even if you are not testing!
URL:https://www.spartatkd.com/event/tip-testing-23/
LOCATION:Shadelands Sportsmall\, 2640 Shadelands Dr\, Walnut Creek\, CA\, 94598\, United States
END:VEVENT
BEGIN:VEVENT
DTSTART;TZID=UTC:20261017T160000
DTEND;TZID=UTC:20261017T190000
DTSTAMP:20260423T193510
CREATED:20260301T213559Z
LAST-MODIFIED:20260301T213559Z
UID:1433-1792252800-1792263600@www.spartatkd.com
SUMMARY:Belt Testing - NO Saturday Classes
DESCRIPTION:White to Yellow Advanced:  9:00-10:30\nOrange to Red Adv: 10:45 – 12:00 (Please be at the dojang by 10:30 just in case 1st group finish early)\nFees:  White – Green Adv $55 / Blue – Red Adv $60 / Poom $80\nPlease come in full uniform and for yellow and above\, please bring your sparring gear. Please trim your nails.\n\nPayment for testing\nBelt testing fees and applications are both due October 12\, 2026.  After October 12\, $20 late fees applies. If paying via Zelle\, please put your child’s name in the memo section.
URL:https://www.spartatkd.com/event/belt-testing-no-saturday-classes-13/
LOCATION:Shadelands Sportsmall\, 2640 Shadelands Dr\, Walnut Creek\, CA\, 94598\, United States
ATTACH;FMTTYPE=image/jpeg:https://www.spartatkd.com/wp-content/uploads/2023/09/beltsv2.jpg
END:VEVENT
BEGIN:VEVENT
DTSTART;TZID=UTC:20261024T020000
DTEND;TZID=UTC:20261024T033000
DTSTAMP:20260423T193510
CREATED:20260301T214253Z
LAST-MODIFIED:20260301T214253Z
UID:1446-1792807200-1792812600@www.spartatkd.com
SUMMARY:Belt Graduation Potluck
DESCRIPTION:Join us in celebrating our students receiving their new belts! All families are invited to participate in a school-wide potluck after the ceremony. \nLocation: Main Dojang \nTime: 7:00 PM – 8:30 PM
URL:https://www.spartatkd.com/event/belt-graduation-potluck-5/
LOCATION:Shadelands Sportsmall\, 2640 Shadelands Dr\, Walnut Creek\, CA\, 94598\, United States
END:VEVENT
BEGIN:VEVENT
DTSTART;TZID=UTC:20261109T233000
DTEND;TZID=UTC:20261113T040000
DTSTAMP:20260423T193510
CREATED:20260301T213635Z
LAST-MODIFIED:20260301T213635Z
UID:1436-1794267000-1794542400@www.spartatkd.com
SUMMARY:Tip Testing
DESCRIPTION:Tip testing will occur during our regular class times. Please attend even if you are not testing!
URL:https://www.spartatkd.com/event/tip-testing-24/
LOCATION:Shadelands Sportsmall\, 2640 Shadelands Dr\, Walnut Creek\, CA\, 94598\, United States
END:VEVENT
BEGIN:VEVENT
DTSTART;TZID=UTC:20261207T233000
DTEND;TZID=UTC:20261211T040000
DTSTAMP:20260423T193510
CREATED:20260301T213716Z
LAST-MODIFIED:20260301T213716Z
UID:1435-1796686200-1796961600@www.spartatkd.com
SUMMARY:Tip Testing
DESCRIPTION:Tip testing will occur during our regular class times. Please attend even if you are not testing!
URL:https://www.spartatkd.com/event/tip-testing-25/
LOCATION:Shadelands Sportsmall\, 2640 Shadelands Dr\, Walnut Creek\, CA\, 94598\, United States
END:VEVENT
BEGIN:VEVENT
DTSTART;TZID=UTC:20261219T170000
DTEND;TZID=UTC:20261219T200000
DTSTAMP:20260423T193510
CREATED:20260301T213750Z
LAST-MODIFIED:20260301T213750Z
UID:1437-1797699600-1797710400@www.spartatkd.com
SUMMARY:Belt Testing - NO Saturday Classes
DESCRIPTION:White to Yellow Advanced:  9:00-10:30\nOrange to Red Adv: 10:45 – 12:00 (Please be at the dojang by 10:30 just in case 1st group finish early)\nFees:  White – Green Adv $55 / Blue – Red Adv $60 / Poom $80\nPlease come in full uniform and for yellow and above\, please bring your sparring gear. Please trim your nails.\n\nPayment for testing\nBelt testing fees and applications are both due December 14\, 2026.  After December 14\, $20 late fees applies. If paying via Zelle\, please put your child’s name in the memo section.
URL:https://www.spartatkd.com/event/belt-testing-no-saturday-classes-14/
LOCATION:Shadelands Sportsmall\, 2640 Shadelands Dr\, Walnut Creek\, CA\, 94598\, United States
ATTACH;FMTTYPE=image/jpeg:https://www.spartatkd.com/wp-content/uploads/2023/09/beltsv2.jpg
END:VEVENT
END:VCALENDAR