BEGIN:VCALENDAR
VERSION:2.0
PRODID:-//Sparta Taekwondo - ECPv6.15.20//NONSGML v1.0//EN
CALSCALE:GREGORIAN
METHOD:PUBLISH
X-WR-CALNAME:Sparta Taekwondo
X-ORIGINAL-URL:https://www.spartatkd.com
X-WR-CALDESC:Events for Sparta Taekwondo
REFRESH-INTERVAL;VALUE=DURATION:PT1H
X-Robots-Tag:noindex
X-PUBLISHED-TTL:PT1H
BEGIN:VTIMEZONE
TZID:UTC
BEGIN:STANDARD
TZOFFSETFROM:+0000
TZOFFSETTO:+0000
TZNAME:UTC
DTSTART:20220101T000000
END:STANDARD
END:VTIMEZONE
BEGIN:VEVENT
DTSTART;TZID=UTC:20231209T090000
DTEND;TZID=UTC:20231209T120000
DTSTAMP:20260424T105245
CREATED:20230907T003520Z
LAST-MODIFIED:20230907T003520Z
UID:1012-1702112400-1702123200@www.spartatkd.com
SUMMARY:Belt Testing - No Saturday Classes
DESCRIPTION:White to Yellow Advanced:  9:00-10:30\n\nOrange to Red Adv: 10:45 – 12:00\n\nPlease come in full uniform and for yellow and above\, please bring your sparring gear.\n\nPayment for testing\nBelt testing fees due December 4\, 2023 together with the applications.  After Dec. 4th\, $20 late fees applies. If paying via Zelle\, please put in the memo area the student’s name.
URL:https://www.spartatkd.com/event/belt-testing-no-saturday-classes-2/
ATTACH;FMTTYPE=image/jpeg:https://www.spartatkd.com/wp-content/uploads/2023/09/beltsv2.jpg
END:VEVENT
BEGIN:VEVENT
DTSTART;TZID=UTC:20231202T170000
DTEND;TZID=UTC:20231202T200000
DTSTAMP:20260424T105245
CREATED:20230907T003345Z
LAST-MODIFIED:20230907T003345Z
UID:1009-1701536400-1701547200@www.spartatkd.com
SUMMARY:Sparta Holiday Party
DESCRIPTION:Please reserve the date! Details to follow.
URL:https://www.spartatkd.com/event/sparta-holiday-party/
ATTACH;FMTTYPE=image/jpeg:https://www.spartatkd.com/wp-content/uploads/2023/09/seasons-greetings.jpg
END:VEVENT
BEGIN:VEVENT
DTSTART;TZID=UTC:20231127T153000
DTEND;TZID=UTC:20231130T193000
DTSTAMP:20260424T105245
CREATED:20230907T003219Z
LAST-MODIFIED:20230907T003219Z
UID:1006-1701099000-1701372600@www.spartatkd.com
SUMMARY:Tip Testing
DESCRIPTION:Tip Testing during class time
URL:https://www.spartatkd.com/event/tip-testing-2/
ATTACH;FMTTYPE=image/jpeg:https://www.spartatkd.com/wp-content/uploads/2023/09/tips2v2.jpg
END:VEVENT
BEGIN:VEVENT
DTSTART;VALUE=DATE:20231122
DTEND;VALUE=DATE:20231127
DTSTAMP:20260424T105245
CREATED:20230907T003042Z
LAST-MODIFIED:20230907T003042Z
UID:1002-1700611200-1701043199@www.spartatkd.com
SUMMARY:Thanksgiving Break - No Classes
DESCRIPTION:
URL:https://www.spartatkd.com/event/thanksgiving-break-no-classes/
ATTACH;FMTTYPE=image/jpeg:https://www.spartatkd.com/wp-content/uploads/2023/09/2023-Thanksgiving.jpg
END:VEVENT
BEGIN:VEVENT
DTSTART;TZID=UTC:20231119T080000
DTEND;TZID=UTC:20231119T170000
DTSTAMP:20260424T105245
CREATED:20230907T002914Z
LAST-MODIFIED:20230907T002914Z
UID:1000-1700380800-1700413200@www.spartatkd.com
SUMMARY:Save the date: UC Davis Tournament
DESCRIPTION:
URL:https://www.spartatkd.com/event/save-the-date-uc-davis-tournament/
END:VEVENT
BEGIN:VEVENT
DTSTART;TZID=UTC:20231029T080000
DTEND;TZID=UTC:20231029T170000
DTSTAMP:20260424T105245
CREATED:20230907T001346Z
LAST-MODIFIED:20230907T001431Z
UID:993-1698566400-1698598800@www.spartatkd.com
SUMMARY:Save the date: Silicon Valley Tournament
DESCRIPTION:GENERAL INFORMATION \nCOMPETITOR REGISTRATION\nALL participants must register at http://siliconvalleytkdopen.com\nNO REFUNDS will be given for any reason. \n\nTo obtain the early registration price\, you must pay online by the September 18 deadline. If the registration fee is not paid by the early registration deadline\, the entry fee will automatically be changed to the final registration\nfee.\n\nEVENT CONTACT\nsiliconvalleytkdopen@gmail.com\nEProductions.elvis@gmail.com \nCOMPETITION VENUE \nSanta Teresa High School\n6150 Snell Ave.\nSan Jose CA. 95133 \nLODGING\nHoliday Inn San Jose\n1350 N First St\,\nSan Jose\, CA 95112 \nEVENT SPECTATOR TICKETS\nEvent Tickets Price\nAll Event Pass                   $20\nChildren (5 & younger)   FREE
URL:https://www.spartatkd.com/event/save-the-date-silicon-valley-tournament/
LOCATION:Santa Teresa High School\, 6150 Snell Ave.\, San Jose\, CA\, 95133\, United States
ATTACH;FMTTYPE=image/jpeg:https://www.spartatkd.com/wp-content/uploads/2023/09/2023-Silicon-Valley-Tourney.jpg
END:VEVENT
BEGIN:VEVENT
DTSTART;TZID=UTC:20231007T090000
DTEND;TZID=UTC:20231007T120000
DTSTAMP:20260424T105245
CREATED:20230907T001105Z
LAST-MODIFIED:20230907T002453Z
UID:990-1696669200-1696680000@www.spartatkd.com
SUMMARY:Belt Testing - No Saturday Classes
DESCRIPTION:White to Yellow Advanced:  9:00-10:30\n\nOrange to Red Adv: 10:45 – 12:00\n\nPlease come in full uniform and for yellow and above\, please bring your sparring gear.\n\nPayment for testing\nBelt testing fees due October 2\, 2023 together with the applications.  After Oct. 2nd\, $20 late fees applies. If paying via Zelle\, please put in the memo area the student’s name.
URL:https://www.spartatkd.com/event/belt-testing-no-saturday-classes/
ATTACH;FMTTYPE=image/jpeg:https://www.spartatkd.com/wp-content/uploads/2023/09/beltsv2.jpg
END:VEVENT
BEGIN:VEVENT
DTSTART;TZID=UTC:20230925T153000
DTEND;TZID=UTC:20230927T193000
DTSTAMP:20260424T105245
CREATED:20230907T000214Z
LAST-MODIFIED:20230907T002752Z
UID:987-1695655800-1695843000@www.spartatkd.com
SUMMARY:Tip Testing
DESCRIPTION:
URL:https://www.spartatkd.com/event/tip-testing/
ATTACH;FMTTYPE=image/jpeg:https://www.spartatkd.com/wp-content/uploads/2023/09/tips2v2.jpg
END:VEVENT
BEGIN:VEVENT
DTSTART;VALUE=DATE:20230331
DTEND;VALUE=DATE:20230403
DTSTAMP:20260424T105245
CREATED:20230328T005320Z
LAST-MODIFIED:20230328T005403Z
UID:643-1680220800-1680479999@www.spartatkd.com
SUMMARY:California State Taekwondo Championship – No Classes
DESCRIPTION:
URL:https://www.spartatkd.com/event/california-state-taekwondo-championship-no-classes/
LOCATION:Fresno Convention Center\, 2233 Ventura St\, Fresno\, CA\, 93721\, United States
ATTACH;FMTTYPE=image/png:https://www.spartatkd.com/wp-content/uploads/2023/03/2023-CUTA-State.png
END:VEVENT
END:VCALENDAR