BEGIN:VCALENDAR
VERSION:2.0
PRODID:-//Sparta Taekwondo - ECPv6.15.20//NONSGML v1.0//EN
CALSCALE:GREGORIAN
METHOD:PUBLISH
X-ORIGINAL-URL:https://www.spartatkd.com
X-WR-CALDESC:Events for Sparta Taekwondo
REFRESH-INTERVAL;VALUE=DURATION:PT1H
X-Robots-Tag:noindex
X-PUBLISHED-TTL:PT1H
BEGIN:VTIMEZONE
TZID:UTC
BEGIN:STANDARD
TZOFFSETFROM:+0000
TZOFFSETTO:+0000
TZNAME:UTC
DTSTART:20230101T000000
END:STANDARD
END:VTIMEZONE
BEGIN:VEVENT
DTSTART;TZID=UTC:20240610T153000
DTEND;TZID=UTC:20240613T200000
DTSTAMP:20260425T011009
CREATED:20240305T002832Z
LAST-MODIFIED:20240305T002832Z
UID:1115-1718033400-1718308800@www.spartatkd.com
SUMMARY:Tip Testing
DESCRIPTION:Tip Testing during normal class time. Please come even if you’re not tip testing.
URL:https://www.spartatkd.com/event/tip-testing-6/
LOCATION:CA
ATTACH;FMTTYPE=image/jpeg:https://www.spartatkd.com/wp-content/uploads/2023/09/tips2v2.jpg
END:VEVENT
BEGIN:VEVENT
DTSTART;VALUE=DATE:20240616
DTEND;VALUE=DATE:20240617
DTSTAMP:20260425T011009
CREATED:20240307T213338Z
LAST-MODIFIED:20240307T213338Z
UID:1125-1718496000-1718582399@www.spartatkd.com
SUMMARY:Happy Father's Day
DESCRIPTION:Happy Father’s Day to all the Dads / Stepdads / Grandfathers out there. Enjoy your special day.
URL:https://www.spartatkd.com/event/happy-fathers-day/
LOCATION:CA
ATTACH;FMTTYPE=image/jpeg:https://www.spartatkd.com/wp-content/uploads/2024/03/2024-fathers-day.jpg
END:VEVENT
BEGIN:VEVENT
DTSTART;TZID=UTC:20240622T090000
DTEND;TZID=UTC:20240622T120000
DTSTAMP:20260425T011009
CREATED:20240305T003051Z
LAST-MODIFIED:20240305T003051Z
UID:1117-1719046800-1719057600@www.spartatkd.com
SUMMARY:Belt testing - No Classes
DESCRIPTION:White to Yellow Advanced:  9:00-10:30\nOrange to Red Adv: 10:45 – 12:00\nPlease come in full uniform and for yellow and above\, please bring your sparring gear.\n\nPayment for testing\nBelt testing fees and applications are due June 17\, 2024.  After June 17th\, $20 late fees applies. If paying via Zelle\, please put your child’s name in the memo section.
URL:https://www.spartatkd.com/event/belt-testing-no-classes-2/
LOCATION:CA
ATTACH;FMTTYPE=image/jpeg:https://www.spartatkd.com/wp-content/uploads/2023/09/beltsv2.jpg
END:VEVENT
BEGIN:VEVENT
DTSTART;VALUE=DATE:20240629
DTEND;VALUE=DATE:20240707
DTSTAMP:20260425T011009
CREATED:20240223T203244Z
LAST-MODIFIED:20240627T153138Z
UID:1101-1719619200-1720310399@www.spartatkd.com
SUMMARY:Mid-year break/ AAU Nationals - NO Classes
DESCRIPTION:More info to come…
URL:https://www.spartatkd.com/event/mid-year-break-aau-nationals-no-classes/
LOCATION:CA
END:VEVENT
END:VCALENDAR