BEGIN:VCALENDAR
VERSION:2.0
PRODID:-//Sparta Taekwondo - ECPv6.15.20//NONSGML v1.0//EN
CALSCALE:GREGORIAN
METHOD:PUBLISH
X-ORIGINAL-URL:https://www.spartatkd.com
X-WR-CALDESC:Events for Sparta Taekwondo
REFRESH-INTERVAL;VALUE=DURATION:PT1H
X-Robots-Tag:noindex
X-PUBLISHED-TTL:PT1H
BEGIN:VTIMEZONE
TZID:UTC
BEGIN:STANDARD
TZOFFSETFROM:+0000
TZOFFSETTO:+0000
TZNAME:UTC
DTSTART:20230101T000000
END:STANDARD
END:VTIMEZONE
BEGIN:VEVENT
DTSTART;VALUE=DATE:20241223
DTEND;VALUE=DATE:20250102
DTSTAMP:20260424T151109
CREATED:20240307T220550Z
LAST-MODIFIED:20240307T220550Z
UID:1135-1734912000-1735775999@www.spartatkd.com
SUMMARY:End of the year break - Sparta is closed
DESCRIPTION:Take lots of pictures and enjoy your family and friends. If you’re traveling\, stay safe. \nTake care everyone. See you in 2025!
URL:https://www.spartatkd.com/event/end-of-the-year-break-sparta-is-closed/
LOCATION:CA
ATTACH;FMTTYPE=image/jpeg:https://www.spartatkd.com/wp-content/uploads/2024/03/2024-happyholidays.jpg
END:VEVENT
END:VCALENDAR