BEGIN:VCALENDAR
VERSION:2.0
PRODID:-//Sparta Taekwondo - ECPv6.15.20//NONSGML v1.0//EN
CALSCALE:GREGORIAN
METHOD:PUBLISH
X-ORIGINAL-URL:https://www.spartatkd.com
X-WR-CALDESC:Events for Sparta Taekwondo
REFRESH-INTERVAL;VALUE=DURATION:PT1H
X-Robots-Tag:noindex
X-PUBLISHED-TTL:PT1H
BEGIN:VTIMEZONE
TZID:UTC
BEGIN:STANDARD
TZOFFSETFROM:+0000
TZOFFSETTO:+0000
TZNAME:UTC
DTSTART:20240101T000000
END:STANDARD
END:VTIMEZONE
BEGIN:VEVENT
DTSTART;TZID=UTC:20250203T153000
DTEND;TZID=UTC:20250206T193000
DTSTAMP:20260424T133756
CREATED:20250114T023223Z
LAST-MODIFIED:20250114T023223Z
UID:1217-1738596600-1738870200@www.spartatkd.com
SUMMARY:Tip Testing
DESCRIPTION:Tip Testing during normal class time. Please come even if you’re not tip testing.
URL:https://www.spartatkd.com/event/tip-testing-10/
LOCATION:CA
ATTACH;FMTTYPE=image/jpeg:https://www.spartatkd.com/wp-content/uploads/2023/09/tips2v2.jpg
END:VEVENT
BEGIN:VEVENT
DTSTART;TZID=UTC:20250207T080000
DTEND;TZID=UTC:20250209T170000
DTSTAMP:20260424T133756
CREATED:20250114T032051Z
LAST-MODIFIED:20250114T032051Z
UID:1233-1738915200-1739120400@www.spartatkd.com
SUMMARY:Canadian Open
DESCRIPTION:https://taekwondo-canada.com/events/canada-open/
URL:https://www.spartatkd.com/event/canadian-open/
LOCATION:Palais des congrès de Montréal
ATTACH;FMTTYPE=image/png:https://www.spartatkd.com/wp-content/uploads/2025/01/2025-Canadian-open.png
END:VEVENT
BEGIN:VEVENT
DTSTART;TZID=UTC:20250214T080000
DTEND;TZID=UTC:20250216T170000
DTSTAMP:20260424T133756
CREATED:20250114T034348Z
LAST-MODIFIED:20250114T034512Z
UID:1238-1739520000-1739725200@www.spartatkd.com
SUMMARY:2025 US Taekwondo Open
DESCRIPTION:https://www.usatkd.org/2025-u-s-open-taekwondo-championship
URL:https://www.spartatkd.com/event/2025-us-taekwondo-open/
LOCATION:Reno Sparks Convention Center
ATTACH;FMTTYPE=image/avif:https://www.spartatkd.com/wp-content/uploads/2025/01/2025-US-Open.avif
END:VEVENT
BEGIN:VEVENT
DTSTART;TZID=UTC:20250215T090000
DTEND;TZID=UTC:20250215T120000
DTSTAMP:20260424T133756
CREATED:20250114T023524Z
LAST-MODIFIED:20250114T023524Z
UID:1219-1739610000-1739620800@www.spartatkd.com
SUMMARY:Belt Testing - NO Saturday Classes
DESCRIPTION:White to Yellow Advanced:  9:00-10:30\nOrange to Red Adv: 10:45 – 12:00\nPlease come in full uniform and for yellow and above\, please bring your sparring gear.\n\nPayment for testing\nBelt testing fees and applications are both due Feb. 10\, 2025.  After Feb. 10th\, $20 late fees applies. If paying via Zelle\, please put your child’s name in the memo section.
URL:https://www.spartatkd.com/event/belt-testing-no-saturday-classes-4/
LOCATION:CA
ATTACH;FMTTYPE=image/jpeg:https://www.spartatkd.com/wp-content/uploads/2023/09/beltsv2.jpg
END:VEVENT
BEGIN:VEVENT
DTSTART;VALUE=DATE:20250217
DTEND;VALUE=DATE:20250218
DTSTAMP:20260424T133756
CREATED:20250114T035451Z
LAST-MODIFIED:20250114T035451Z
UID:1242-1739750400-1739836799@www.spartatkd.com
SUMMARY:President's Day - No Classes
DESCRIPTION:No Classes! Enjoy your Monday off! \n 
URL:https://www.spartatkd.com/event/presidents-day-no-classes/
LOCATION:CA
ATTACH;FMTTYPE=image/jpeg:https://www.spartatkd.com/wp-content/uploads/2025/01/2025-Presidents-day.jpg
END:VEVENT
END:VCALENDAR